BEGIN:VCALENDAR
VERSION:2.0
PRODID:-//ACED - ECPv6.15.20//NONSGML v1.0//EN
CALSCALE:GREGORIAN
METHOD:PUBLISH
X-WR-CALNAME:ACED
X-ORIGINAL-URL:https://azced.org
X-WR-CALDESC:Events for ACED
REFRESH-INTERVAL;VALUE=DURATION:PT1H
X-Robots-Tag:noindex
X-PUBLISHED-TTL:PT1H
BEGIN:VTIMEZONE
TZID:America/Phoenix
BEGIN:STANDARD
TZOFFSETFROM:-0700
TZOFFSETTO:-0700
TZNAME:MST
DTSTART:20230101T000000
END:STANDARD
END:VTIMEZONE
BEGIN:VEVENT
DTSTART;TZID=America/Phoenix:20241120T153000
DTEND;TZID=America/Phoenix:20241120T163000
DTSTAMP:20260423T035714
CREATED:20241211T160530Z
LAST-MODIFIED:20241211T160530Z
UID:10001363-1732116600-1732120200@azced.org
SUMMARY:ACED Weekly Office Hours
DESCRIPTION:ACED Weekly Office Hours 3:30pm to 4:30pm
URL:https://azced.org/events/aced-weekly-office-hours-330pm-to-430pm-2-4/
CATEGORIES:news
END:VEVENT
BEGIN:VEVENT
DTSTART;TZID=America/Phoenix:20241113T153000
DTEND;TZID=America/Phoenix:20241113T163000
DTSTAMP:20260423T035714
CREATED:20241211T161322Z
LAST-MODIFIED:20241211T161322Z
UID:10001684-1731511800-1731515400@azced.org
SUMMARY:ACED Weekly Office Hours
DESCRIPTION:ACED Weekly Office Hours 3:30pm to 4:30pm
URL:https://azced.org/events/aced-weekly-office-hours/2024-11-13/
CATEGORIES:news
END:VEVENT
BEGIN:VEVENT
DTSTART;TZID=America/Phoenix:20241106T153000
DTEND;TZID=America/Phoenix:20241106T163000
DTSTAMP:20260423T035714
CREATED:20241211T161322Z
LAST-MODIFIED:20241211T161322Z
UID:10001683-1730907000-1730910600@azced.org
SUMMARY:ACED Weekly Office Hours
DESCRIPTION:ACED Weekly Office Hours 3:30pm to 4:30pm
URL:https://azced.org/events/aced-weekly-office-hours/2024-11-06/
CATEGORIES:news
END:VEVENT
BEGIN:VEVENT
DTSTART;TZID=America/Phoenix:20241030T153000
DTEND;TZID=America/Phoenix:20241030T160000
DTSTAMP:20260423T035714
CREATED:20241024T144242Z
LAST-MODIFIED:20241024T144242Z
UID:10001620-1730302200-1730304000@azced.org
SUMMARY:Larrissa from Edge Factor on Office Hours
DESCRIPTION:
URL:https://azced.org/events/larrissa-from-edge-factor-on-office-hours/
END:VEVENT
BEGIN:VEVENT
DTSTART;TZID=America/Phoenix:20241024T090000
DTEND;TZID=America/Phoenix:20241024T121500
DTSTAMP:20260423T035714
CREATED:20241017T183656Z
LAST-MODIFIED:20241017T183656Z
UID:10001618-1729760400-1729772100@azced.org
SUMMARY:Yuma ACED Leadership Team Meeting
DESCRIPTION:
URL:https://azced.org/events/yuma-aced-leadership-team-meeting/
END:VEVENT
BEGIN:VEVENT
DTSTART;TZID=America/Phoenix:20241023T153000
DTEND;TZID=America/Phoenix:20241023T160000
DTSTAMP:20260423T035714
CREATED:20241024T144051Z
LAST-MODIFIED:20241024T144121Z
UID:10001619-1729697400-1729699200@azced.org
SUMMARY:Natalie Galarza from CFA at Office Hours
DESCRIPTION:
URL:https://azced.org/events/natalie-galarza-from-cfa-at-office-hours/
END:VEVENT
BEGIN:VEVENT
DTSTART;TZID=America/Phoenix:20241009T153000
DTEND;TZID=America/Phoenix:20241009T160000
DTSTAMP:20260423T035714
CREATED:20241007T150548Z
LAST-MODIFIED:20241007T150548Z
UID:10001610-1728487800-1728489600@azced.org
SUMMARY:Office Hours Amish Patel Transfr VR
DESCRIPTION:
URL:https://azced.org/events/office-hours-amish-patel-transfr-vr/
END:VEVENT
BEGIN:VEVENT
DTSTART;TZID=America/Phoenix:20240821T160000
DTEND;TZID=America/Phoenix:20240821T170000
DTSTAMP:20260423T035714
CREATED:20240102T212257Z
LAST-MODIFIED:20240103T181801Z
UID:10000161-1724256000-1724259600@azced.org
SUMMARY:ACED Weekly Office Hours
DESCRIPTION:ACED Weekly Office Hours 4:00pm to 5:00pm
URL:https://azced.org/events/aced-weekly-office-hours-400pm-to-500pm/2024-08-21/
CATEGORIES:news
END:VEVENT
BEGIN:VEVENT
DTSTART;TZID=America/Phoenix:20240814T160000
DTEND;TZID=America/Phoenix:20240814T170000
DTSTAMP:20260423T035714
CREATED:20240102T212257Z
LAST-MODIFIED:20240103T181801Z
UID:10000156-1723651200-1723654800@azced.org
SUMMARY:ACED Weekly Office Hours
DESCRIPTION:ACED Weekly Office Hours 4:00pm to 5:00pm
URL:https://azced.org/events/aced-weekly-office-hours-400pm-to-500pm/2024-08-14/
CATEGORIES:news
END:VEVENT
BEGIN:VEVENT
DTSTART;TZID=America/Phoenix:20240807T160000
DTEND;TZID=America/Phoenix:20240807T170000
DTSTAMP:20260423T035714
CREATED:20240102T212257Z
LAST-MODIFIED:20240103T181801Z
UID:10000151-1723046400-1723050000@azced.org
SUMMARY:ACED Weekly Office Hours
DESCRIPTION:ACED Weekly Office Hours 4:00pm to 5:00pm
URL:https://azced.org/events/aced-weekly-office-hours-400pm-to-500pm/2024-08-07/
CATEGORIES:news
END:VEVENT
BEGIN:VEVENT
DTSTART;TZID=America/Phoenix:20240731T160000
DTEND;TZID=America/Phoenix:20240731T170000
DTSTAMP:20260423T035714
CREATED:20240102T212257Z
LAST-MODIFIED:20240103T181801Z
UID:10000146-1722441600-1722445200@azced.org
SUMMARY:ACED Weekly Office Hours
DESCRIPTION:ACED Weekly Office Hours 4:00pm to 5:00pm
URL:https://azced.org/events/aced-weekly-office-hours-400pm-to-500pm/2024-07-31/
CATEGORIES:news
END:VEVENT
BEGIN:VEVENT
DTSTART;TZID=America/Phoenix:20240724T160000
DTEND;TZID=America/Phoenix:20240724T170000
DTSTAMP:20260423T035714
CREATED:20240102T212257Z
LAST-MODIFIED:20240103T181801Z
UID:10000141-1721836800-1721840400@azced.org
SUMMARY:ACED Weekly Office Hours
DESCRIPTION:ACED Weekly Office Hours 4:00pm to 5:00pm
URL:https://azced.org/events/aced-weekly-office-hours-400pm-to-500pm/2024-07-24/
CATEGORIES:news
END:VEVENT
BEGIN:VEVENT
DTSTART;TZID=America/Phoenix:20240717T160000
DTEND;TZID=America/Phoenix:20240717T170000
DTSTAMP:20260423T035714
CREATED:20240102T212257Z
LAST-MODIFIED:20240103T181801Z
UID:10000136-1721232000-1721235600@azced.org
SUMMARY:ACED Weekly Office Hours
DESCRIPTION:ACED Weekly Office Hours 4:00pm to 5:00pm
URL:https://azced.org/events/aced-weekly-office-hours-400pm-to-500pm/2024-07-17/
CATEGORIES:news
END:VEVENT
BEGIN:VEVENT
DTSTART;VALUE=DATE:20240715
DTEND;VALUE=DATE:20240716
DTSTAMP:20260423T035714
CREATED:20240610T195014Z
LAST-MODIFIED:20240610T195014Z
UID:10001315-1721030400-1721062800@azced.org
SUMMARY:ABEC presentations at ACTEAz COnference
DESCRIPTION:
URL:https://azced.org/events/abec-presentations-at-acteaz-conference/2024-07-15/2/
END:VEVENT
BEGIN:VEVENT
DTSTART;VALUE=DATE:20240715
DTEND;VALUE=DATE:20240716
DTSTAMP:20260423T035714
CREATED:20240610T195014Z
LAST-MODIFIED:20240610T195014Z
UID:10001314-1721001600-1721087999@azced.org
SUMMARY:ABEC presentations at ACTEAz COnference
DESCRIPTION:
URL:https://azced.org/events/abec-presentations-at-acteaz-conference/2024-07-15/1/
END:VEVENT
BEGIN:VEVENT
DTSTART;VALUE=DATE:20240711
DTEND;VALUE=DATE:20240712
DTSTAMP:20260423T035714
CREATED:20240610T194805Z
LAST-MODIFIED:20240610T194805Z
UID:10001313-1720684800-1720717200@azced.org
SUMMARY:ABEC/CFA Professional Development Event - Yuma County
DESCRIPTION:
URL:https://azced.org/events/abec-cfa-professional-development-event-yuma-county/2024-07-11/
END:VEVENT
BEGIN:VEVENT
DTSTART;TZID=America/Phoenix:20240710T160000
DTEND;TZID=America/Phoenix:20240710T170000
DTSTAMP:20260423T035714
CREATED:20240102T212257Z
LAST-MODIFIED:20240103T181801Z
UID:10000131-1720627200-1720630800@azced.org
SUMMARY:ACED Weekly Office Hours
DESCRIPTION:ACED Weekly Office Hours 4:00pm to 5:00pm
URL:https://azced.org/events/aced-weekly-office-hours-400pm-to-500pm/2024-07-10/
CATEGORIES:news
END:VEVENT
BEGIN:VEVENT
DTSTART;VALUE=DATE:20240710
DTEND;VALUE=DATE:20240711
DTSTAMP:20260423T035714
CREATED:20240610T194805Z
LAST-MODIFIED:20240610T194805Z
UID:10001312-1720598400-1720630800@azced.org
SUMMARY:ABEC/CFA Professional Development Event - Yuma County
DESCRIPTION:
URL:https://azced.org/events/abec-cfa-professional-development-event-yuma-county/2024-07-10/2/
END:VEVENT
BEGIN:VEVENT
DTSTART;VALUE=DATE:20240710
DTEND;VALUE=DATE:20240711
DTSTAMP:20260423T035714
CREATED:20240610T194611Z
LAST-MODIFIED:20240610T194611Z
UID:10001310-1720598400-1720630800@azced.org
SUMMARY:ABEC/CFA/ElevateAz/Pima County School Superintendent's Office Teacher Zoom Externship
DESCRIPTION:
URL:https://azced.org/events/abec-cfa-elevateaz-pima-county-school-superintendents-office-teacher-zoom-externship-2/2024-07-10/
END:VEVENT
BEGIN:VEVENT
DTSTART;VALUE=DATE:20240710
DTEND;VALUE=DATE:20240712
DTSTAMP:20260423T035714
CREATED:20240610T194805Z
LAST-MODIFIED:20240610T194805Z
UID:10001311-1720569600-1720742399@azced.org
SUMMARY:ABEC/CFA Professional Development Event - Yuma County
DESCRIPTION:
URL:https://azced.org/events/abec-cfa-professional-development-event-yuma-county/2024-07-10/1/
END:VEVENT
BEGIN:VEVENT
DTSTART;VALUE=DATE:20240709
DTEND;VALUE=DATE:20240711
DTSTAMP:20260423T035714
CREATED:20240610T194611Z
LAST-MODIFIED:20240610T194611Z
UID:10001309-1720483200-1720655999@azced.org
SUMMARY:ABEC/CFA/ElevateAz/Pima County School Superintendent's Office Teacher Zoom Externship
DESCRIPTION:
URL:https://azced.org/events/abec-cfa-elevateaz-pima-county-school-superintendents-office-teacher-zoom-externship-2/2024-07-09/
END:VEVENT
BEGIN:VEVENT
DTSTART;TZID=America/Phoenix:20240703T160000
DTEND;TZID=America/Phoenix:20240703T170000
DTSTAMP:20260423T035714
CREATED:20240102T212257Z
LAST-MODIFIED:20240103T181801Z
UID:10000126-1720022400-1720026000@azced.org
SUMMARY:ACED Weekly Office Hours
DESCRIPTION:ACED Weekly Office Hours 4:00pm to 5:00pm
URL:https://azced.org/events/aced-weekly-office-hours-400pm-to-500pm/2024-07-03/
CATEGORIES:news
END:VEVENT
BEGIN:VEVENT
DTSTART;TZID=America/Phoenix:20240626T160000
DTEND;TZID=America/Phoenix:20240626T170000
DTSTAMP:20260423T035714
CREATED:20240102T212257Z
LAST-MODIFIED:20240103T181801Z
UID:10000121-1719417600-1719421200@azced.org
SUMMARY:ACED Weekly Office Hours
DESCRIPTION:ACED Weekly Office Hours 4:00pm to 5:00pm
URL:https://azced.org/events/aced-weekly-office-hours-400pm-to-500pm/2024-06-26/
CATEGORIES:news
END:VEVENT
BEGIN:VEVENT
DTSTART;TZID=America/Phoenix:20240619T160000
DTEND;TZID=America/Phoenix:20240619T170000
DTSTAMP:20260423T035714
CREATED:20240102T212257Z
LAST-MODIFIED:20240103T181801Z
UID:10000116-1718812800-1718816400@azced.org
SUMMARY:ACED Weekly Office Hours
DESCRIPTION:ACED Weekly Office Hours 4:00pm to 5:00pm
URL:https://azced.org/events/aced-weekly-office-hours-400pm-to-500pm/2024-06-19/
CATEGORIES:news
END:VEVENT
BEGIN:VEVENT
DTSTART;TZID=America/Phoenix:20240612T160000
DTEND;TZID=America/Phoenix:20240612T170000
DTSTAMP:20260423T035714
CREATED:20240102T212257Z
LAST-MODIFIED:20240103T181801Z
UID:10000111-1718208000-1718211600@azced.org
SUMMARY:ACED Weekly Office Hours
DESCRIPTION:ACED Weekly Office Hours 4:00pm to 5:00pm
URL:https://azced.org/events/aced-weekly-office-hours-400pm-to-500pm/2024-06-12/
CATEGORIES:news
END:VEVENT
BEGIN:VEVENT
DTSTART;VALUE=DATE:20240612
DTEND;VALUE=DATE:20240613
DTSTAMP:20260423T035714
CREATED:20240610T194340Z
LAST-MODIFIED:20240610T194436Z
UID:10001308-1718179200-1718211600@azced.org
SUMMARY:ABEC/CFA/ElevateAz/Pima County School Superintendent's Office Teacher Zoom Externship
DESCRIPTION:
URL:https://azced.org/events/abec-cfa-elevateaz-pima-county-school-superintendents-office-teacher-zoom-externship/2024-06-12/
END:VEVENT
BEGIN:VEVENT
DTSTART;VALUE=DATE:20240611
DTEND;VALUE=DATE:20240612
DTSTAMP:20260423T035714
CREATED:20240610T194340Z
LAST-MODIFIED:20240610T194436Z
UID:10001307-1718092800-1718125200@azced.org
SUMMARY:ABEC/CFA/ElevateAz/Pima County School Superintendent's Office Teacher Zoom Externship
DESCRIPTION:
URL:https://azced.org/events/abec-cfa-elevateaz-pima-county-school-superintendents-office-teacher-zoom-externship/2024-06-11/
END:VEVENT
BEGIN:VEVENT
DTSTART;VALUE=DATE:20240610
DTEND;VALUE=DATE:20240613
DTSTAMP:20260423T035714
CREATED:20240610T194340Z
LAST-MODIFIED:20240610T194436Z
UID:10001306-1717977600-1718236799@azced.org
SUMMARY:ABEC/CFA/ElevateAz/Pima County School Superintendent's Office Teacher Zoom Externship
DESCRIPTION:
URL:https://azced.org/events/abec-cfa-elevateaz-pima-county-school-superintendents-office-teacher-zoom-externship/2024-06-10/
END:VEVENT
BEGIN:VEVENT
DTSTART;TZID=America/Phoenix:20240606T080000
DTEND;TZID=America/Phoenix:20240606T170000
DTSTAMP:20260423T035714
CREATED:20240610T194040Z
LAST-MODIFIED:20240610T194228Z
UID:10001305-1717660800-1717693200@azced.org
SUMMARY:ABEC/STEDY Middle School Career Camp
DESCRIPTION:
URL:https://azced.org/events/abec-stedy-middle-school-career-camp/2024-06-06/
END:VEVENT
BEGIN:VEVENT
DTSTART;TZID=America/Phoenix:20240605T160000
DTEND;TZID=America/Phoenix:20240605T170000
DTSTAMP:20260423T035714
CREATED:20240102T212257Z
LAST-MODIFIED:20240103T181801Z
UID:10000106-1717603200-1717606800@azced.org
SUMMARY:ACED Weekly Office Hours
DESCRIPTION:ACED Weekly Office Hours 4:00pm to 5:00pm
URL:https://azced.org/events/aced-weekly-office-hours-400pm-to-500pm/2024-06-05/
CATEGORIES:news
END:VEVENT
END:VCALENDAR