BEGIN:VCALENDAR
VERSION:2.0
PRODID:-//ACED - ECPv6.15.20//NONSGML v1.0//EN
CALSCALE:GREGORIAN
METHOD:PUBLISH
X-WR-CALNAME:ACED
X-ORIGINAL-URL:https://azced.org
X-WR-CALDESC:Events for ACED
REFRESH-INTERVAL;VALUE=DURATION:PT1H
X-Robots-Tag:noindex
X-PUBLISHED-TTL:PT1H
BEGIN:VTIMEZONE
TZID:America/Phoenix
BEGIN:STANDARD
TZOFFSETFROM:-0700
TZOFFSETTO:-0700
TZNAME:MST
DTSTART:20230101T000000
END:STANDARD
END:VTIMEZONE
BEGIN:VEVENT
DTSTART;TZID=America/Phoenix:20240603T080000
DTEND;TZID=America/Phoenix:20240603T170000
DTSTAMP:20260423T161110
CREATED:20240610T194040Z
LAST-MODIFIED:20240610T194228Z
UID:10001302-1717401600-1717434000@azced.org
SUMMARY:ABEC/STEDY Middle School Career Camp
DESCRIPTION:
URL:https://azced.org/events/abec-stedy-middle-school-career-camp/2024-06-03/
END:VEVENT
BEGIN:VEVENT
DTSTART;TZID=America/Phoenix:20240529T160000
DTEND;TZID=America/Phoenix:20240529T170000
DTSTAMP:20260423T161110
CREATED:20240102T212257Z
LAST-MODIFIED:20240103T181801Z
UID:10000101-1716998400-1717002000@azced.org
SUMMARY:ACED Weekly Office Hours
DESCRIPTION:ACED Weekly Office Hours 4:00pm to 5:00pm
URL:https://azced.org/events/aced-weekly-office-hours-400pm-to-500pm/2024-05-29/
CATEGORIES:news
END:VEVENT
BEGIN:VEVENT
DTSTART;TZID=America/Phoenix:20240522T160000
DTEND;TZID=America/Phoenix:20240522T170000
DTSTAMP:20260423T161110
CREATED:20240102T212257Z
LAST-MODIFIED:20240103T181801Z
UID:10000096-1716393600-1716397200@azced.org
SUMMARY:ACED Weekly Office Hours
DESCRIPTION:ACED Weekly Office Hours 4:00pm to 5:00pm
URL:https://azced.org/events/aced-weekly-office-hours-400pm-to-500pm/2024-05-22/
CATEGORIES:news
END:VEVENT
BEGIN:VEVENT
DTSTART;TZID=America/Phoenix:20240515T160000
DTEND;TZID=America/Phoenix:20240515T170000
DTSTAMP:20260423T161110
CREATED:20240102T212257Z
LAST-MODIFIED:20240103T181801Z
UID:10000091-1715788800-1715792400@azced.org
SUMMARY:ACED Weekly Office Hours
DESCRIPTION:ACED Weekly Office Hours 4:00pm to 5:00pm
URL:https://azced.org/events/aced-weekly-office-hours-400pm-to-500pm/2024-05-15/
CATEGORIES:news
END:VEVENT
BEGIN:VEVENT
DTSTART;TZID=America/Phoenix:20240508T160000
DTEND;TZID=America/Phoenix:20240508T170000
DTSTAMP:20260423T161110
CREATED:20240102T212257Z
LAST-MODIFIED:20240103T181801Z
UID:10000086-1715184000-1715187600@azced.org
SUMMARY:ACED Weekly Office Hours
DESCRIPTION:ACED Weekly Office Hours 4:00pm to 5:00pm
URL:https://azced.org/events/aced-weekly-office-hours-400pm-to-500pm/2024-05-08/
CATEGORIES:news
END:VEVENT
BEGIN:VEVENT
DTSTART;TZID=America/Phoenix:20240501T160000
DTEND;TZID=America/Phoenix:20240501T170000
DTSTAMP:20260423T161110
CREATED:20240102T212257Z
LAST-MODIFIED:20240103T181801Z
UID:10000081-1714579200-1714582800@azced.org
SUMMARY:ACED Weekly Office Hours
DESCRIPTION:ACED Weekly Office Hours 4:00pm to 5:00pm
URL:https://azced.org/events/aced-weekly-office-hours-400pm-to-500pm/2024-05-01/
CATEGORIES:news
END:VEVENT
BEGIN:VEVENT
DTSTART;TZID=America/Phoenix:20240424T160000
DTEND;TZID=America/Phoenix:20240424T170000
DTSTAMP:20260423T161110
CREATED:20240102T212257Z
LAST-MODIFIED:20240103T181801Z
UID:10000076-1713974400-1713978000@azced.org
SUMMARY:ACED Weekly Office Hours
DESCRIPTION:ACED Weekly Office Hours 4:00pm to 5:00pm
URL:https://azced.org/events/aced-weekly-office-hours-400pm-to-500pm/2024-04-24/
CATEGORIES:news
END:VEVENT
BEGIN:VEVENT
DTSTART;TZID=America/Phoenix:20240417T160000
DTEND;TZID=America/Phoenix:20240417T170000
DTSTAMP:20260423T161110
CREATED:20240102T212257Z
LAST-MODIFIED:20240103T181801Z
UID:10000071-1713369600-1713373200@azced.org
SUMMARY:ACED Weekly Office Hours
DESCRIPTION:ACED Weekly Office Hours 4:00pm to 5:00pm
URL:https://azced.org/events/aced-weekly-office-hours-400pm-to-500pm/2024-04-17/
CATEGORIES:news
END:VEVENT
BEGIN:VEVENT
DTSTART;TZID=America/Phoenix:20240410T160000
DTEND;TZID=America/Phoenix:20240410T170000
DTSTAMP:20260423T161110
CREATED:20240102T212257Z
LAST-MODIFIED:20240103T181801Z
UID:10000066-1712764800-1712768400@azced.org
SUMMARY:ACED Weekly Office Hours
DESCRIPTION:ACED Weekly Office Hours 4:00pm to 5:00pm
URL:https://azced.org/events/aced-weekly-office-hours-400pm-to-500pm/2024-04-10/
CATEGORIES:news
END:VEVENT
BEGIN:VEVENT
DTSTART;TZID=America/Phoenix:20240403T160000
DTEND;TZID=America/Phoenix:20240403T170000
DTSTAMP:20260423T161110
CREATED:20240102T212257Z
LAST-MODIFIED:20240103T181801Z
UID:10000061-1712160000-1712163600@azced.org
SUMMARY:ACED Weekly Office Hours
DESCRIPTION:ACED Weekly Office Hours 4:00pm to 5:00pm
URL:https://azced.org/events/aced-weekly-office-hours-400pm-to-500pm/2024-04-03/
CATEGORIES:news
END:VEVENT
BEGIN:VEVENT
DTSTART;TZID=America/Phoenix:20240327T160000
DTEND;TZID=America/Phoenix:20240327T170000
DTSTAMP:20260423T161110
CREATED:20240102T212257Z
LAST-MODIFIED:20240103T181801Z
UID:10000056-1711555200-1711558800@azced.org
SUMMARY:ACED Weekly Office Hours
DESCRIPTION:ACED Weekly Office Hours 4:00pm to 5:00pm
URL:https://azced.org/events/aced-weekly-office-hours-400pm-to-500pm/2024-03-27/
CATEGORIES:news
END:VEVENT
BEGIN:VEVENT
DTSTART;TZID=America/Phoenix:20240320T160000
DTEND;TZID=America/Phoenix:20240320T170000
DTSTAMP:20260423T161110
CREATED:20240102T212257Z
LAST-MODIFIED:20240103T181801Z
UID:10000051-1710950400-1710954000@azced.org
SUMMARY:ACED Weekly Office Hours
DESCRIPTION:ACED Weekly Office Hours 4:00pm to 5:00pm
URL:https://azced.org/events/aced-weekly-office-hours-400pm-to-500pm/2024-03-20/
CATEGORIES:news
END:VEVENT
BEGIN:VEVENT
DTSTART;TZID=America/Phoenix:20240313T160000
DTEND;TZID=America/Phoenix:20240313T170000
DTSTAMP:20260423T161110
CREATED:20240102T212257Z
LAST-MODIFIED:20240103T181801Z
UID:10000046-1710345600-1710349200@azced.org
SUMMARY:ACED Weekly Office Hours
DESCRIPTION:ACED Weekly Office Hours 4:00pm to 5:00pm
URL:https://azced.org/events/aced-weekly-office-hours-400pm-to-500pm/2024-03-13/
CATEGORIES:news
END:VEVENT
BEGIN:VEVENT
DTSTART;TZID=America/Phoenix:20240306T160000
DTEND;TZID=America/Phoenix:20240306T170000
DTSTAMP:20260423T161110
CREATED:20240102T212257Z
LAST-MODIFIED:20240103T181801Z
UID:10000041-1709740800-1709744400@azced.org
SUMMARY:ACED Weekly Office Hours
DESCRIPTION:ACED Weekly Office Hours 4:00pm to 5:00pm
URL:https://azced.org/events/aced-weekly-office-hours-400pm-to-500pm/2024-03-06/
CATEGORIES:news
END:VEVENT
BEGIN:VEVENT
DTSTART;TZID=America/Phoenix:20240228T160000
DTEND;TZID=America/Phoenix:20240228T170000
DTSTAMP:20260423T161110
CREATED:20240102T212257Z
LAST-MODIFIED:20240103T181801Z
UID:10000036-1709136000-1709139600@azced.org
SUMMARY:ACED Weekly Office Hours
DESCRIPTION:ACED Weekly Office Hours 4:00pm to 5:00pm
URL:https://azced.org/events/aced-weekly-office-hours-400pm-to-500pm/2024-02-28/
CATEGORIES:news
END:VEVENT
BEGIN:VEVENT
DTSTART;TZID=America/Phoenix:20240221T160000
DTEND;TZID=America/Phoenix:20240221T170000
DTSTAMP:20260423T161110
CREATED:20240102T212257Z
LAST-MODIFIED:20240103T181801Z
UID:10000031-1708531200-1708534800@azced.org
SUMMARY:ACED Weekly Office Hours
DESCRIPTION:ACED Weekly Office Hours 4:00pm to 5:00pm
URL:https://azced.org/events/aced-weekly-office-hours-400pm-to-500pm/2024-02-21/
CATEGORIES:news
END:VEVENT
BEGIN:VEVENT
DTSTART;TZID=America/Phoenix:20240214T160000
DTEND;TZID=America/Phoenix:20240214T170000
DTSTAMP:20260423T161110
CREATED:20240102T212257Z
LAST-MODIFIED:20240103T181801Z
UID:10000026-1707926400-1707930000@azced.org
SUMMARY:ACED Weekly Office Hours
DESCRIPTION:ACED Weekly Office Hours 4:00pm to 5:00pm
URL:https://azced.org/events/aced-weekly-office-hours-400pm-to-500pm/2024-02-14/
CATEGORIES:news
END:VEVENT
BEGIN:VEVENT
DTSTART;TZID=America/Phoenix:20240207T160000
DTEND;TZID=America/Phoenix:20240207T170000
DTSTAMP:20260423T161110
CREATED:20240102T212257Z
LAST-MODIFIED:20240103T181801Z
UID:10000021-1707321600-1707325200@azced.org
SUMMARY:ACED Weekly Office Hours
DESCRIPTION:ACED Weekly Office Hours 4:00pm to 5:00pm
URL:https://azced.org/events/aced-weekly-office-hours-400pm-to-500pm/2024-02-07/
CATEGORIES:news
END:VEVENT
BEGIN:VEVENT
DTSTART;TZID=America/Phoenix:20240131T160000
DTEND;TZID=America/Phoenix:20240131T170000
DTSTAMP:20260423T161110
CREATED:20240102T212257Z
LAST-MODIFIED:20240103T181801Z
UID:10000016-1706716800-1706720400@azced.org
SUMMARY:ACED Weekly Office Hours
DESCRIPTION:ACED Weekly Office Hours 4:00pm to 5:00pm
URL:https://azced.org/events/aced-weekly-office-hours-400pm-to-500pm/2024-01-31/
CATEGORIES:news
END:VEVENT
BEGIN:VEVENT
DTSTART;TZID=America/Phoenix:20240124T160000
DTEND;TZID=America/Phoenix:20240124T170000
DTSTAMP:20260423T161110
CREATED:20240102T212257Z
LAST-MODIFIED:20240103T181801Z
UID:10000011-1706112000-1706115600@azced.org
SUMMARY:ACED Weekly Office Hours
DESCRIPTION:ACED Weekly Office Hours 4:00pm to 5:00pm
URL:https://azced.org/events/aced-weekly-office-hours-400pm-to-500pm/2024-01-24/
CATEGORIES:news
END:VEVENT
BEGIN:VEVENT
DTSTART;TZID=America/Phoenix:20240117T160000
DTEND;TZID=America/Phoenix:20240117T170000
DTSTAMP:20260423T161110
CREATED:20240102T212257Z
LAST-MODIFIED:20240103T181801Z
UID:10000006-1705507200-1705510800@azced.org
SUMMARY:ACED Weekly Office Hours
DESCRIPTION:ACED Weekly Office Hours 4:00pm to 5:00pm
URL:https://azced.org/events/aced-weekly-office-hours-400pm-to-500pm/2024-01-17/
CATEGORIES:news
END:VEVENT
BEGIN:VEVENT
DTSTART;TZID=America/Phoenix:20240110T160000
DTEND;TZID=America/Phoenix:20240110T170000
DTSTAMP:20260423T161110
CREATED:20240102T212257Z
LAST-MODIFIED:20240103T181801Z
UID:10000001-1704902400-1704906000@azced.org
SUMMARY:ACED Weekly Office Hours
DESCRIPTION:ACED Weekly Office Hours 4:00pm to 5:00pm
URL:https://azced.org/events/aced-weekly-office-hours-400pm-to-500pm/2024-01-10/
CATEGORIES:news
END:VEVENT
END:VCALENDAR