BEGIN:VCALENDAR
VERSION:2.0
PRODID:-//ACED - ECPv6.15.20//NONSGML v1.0//EN
CALSCALE:GREGORIAN
METHOD:PUBLISH
X-WR-CALNAME:ACED
X-ORIGINAL-URL:https://azced.org
X-WR-CALDESC:Events for ACED
REFRESH-INTERVAL;VALUE=DURATION:PT1H
X-Robots-Tag:noindex
X-PUBLISHED-TTL:PT1H
BEGIN:VTIMEZONE
TZID:America/Phoenix
BEGIN:STANDARD
TZOFFSETFROM:-0700
TZOFFSETTO:-0700
TZNAME:MST
DTSTART:20240101T000000
END:STANDARD
END:VTIMEZONE
BEGIN:VEVENT
DTSTART;TZID=America/Phoenix:20260610T153000
DTEND;TZID=America/Phoenix:20260610T163000
DTSTAMP:20260425T040924
CREATED:20250811T163500Z
LAST-MODIFIED:20250811T163500Z
UID:10001802-1781105400-1781109000@azced.org
SUMMARY:Office Hours
DESCRIPTION:
URL:https://azced.org/events/office-hours/2026-06-10/
END:VEVENT
BEGIN:VEVENT
DTSTART;TZID=America/Phoenix:20260603T153000
DTEND;TZID=America/Phoenix:20260603T163000
DTSTAMP:20260425T040924
CREATED:20250811T163500Z
LAST-MODIFIED:20250811T163500Z
UID:10001801-1780500600-1780504200@azced.org
SUMMARY:Office Hours
DESCRIPTION:
URL:https://azced.org/events/office-hours/2026-06-03/
END:VEVENT
BEGIN:VEVENT
DTSTART;TZID=America/Phoenix:20260527T153000
DTEND;TZID=America/Phoenix:20260527T163000
DTSTAMP:20260425T040924
CREATED:20250811T163500Z
LAST-MODIFIED:20250811T163500Z
UID:10001800-1779895800-1779899400@azced.org
SUMMARY:Office Hours
DESCRIPTION:
URL:https://azced.org/events/office-hours/2026-05-27/
END:VEVENT
BEGIN:VEVENT
DTSTART;TZID=America/Phoenix:20260520T153000
DTEND;TZID=America/Phoenix:20260520T163000
DTSTAMP:20260425T040924
CREATED:20250811T163500Z
LAST-MODIFIED:20250811T163500Z
UID:10001799-1779291000-1779294600@azced.org
SUMMARY:Office Hours
DESCRIPTION:
URL:https://azced.org/events/office-hours/2026-05-20/
END:VEVENT
BEGIN:VEVENT
DTSTART;TZID=America/Phoenix:20260513T153000
DTEND;TZID=America/Phoenix:20260513T163000
DTSTAMP:20260425T040924
CREATED:20250811T163500Z
LAST-MODIFIED:20250811T163500Z
UID:10001798-1778686200-1778689800@azced.org
SUMMARY:Office Hours
DESCRIPTION:
URL:https://azced.org/events/office-hours/2026-05-13/
END:VEVENT
BEGIN:VEVENT
DTSTART;TZID=America/Phoenix:20260506T153000
DTEND;TZID=America/Phoenix:20260506T163000
DTSTAMP:20260425T040924
CREATED:20250811T163500Z
LAST-MODIFIED:20250811T163500Z
UID:10001797-1778081400-1778085000@azced.org
SUMMARY:Office Hours
DESCRIPTION:
URL:https://azced.org/events/office-hours/2026-05-06/
END:VEVENT
BEGIN:VEVENT
DTSTART;TZID=America/Phoenix:20260429T153000
DTEND;TZID=America/Phoenix:20260429T163000
DTSTAMP:20260425T040924
CREATED:20250811T163500Z
LAST-MODIFIED:20250811T163500Z
UID:10001796-1777476600-1777480200@azced.org
SUMMARY:Office Hours
DESCRIPTION:
URL:https://azced.org/events/office-hours/2026-04-29/
END:VEVENT
BEGIN:VEVENT
DTSTART;TZID=America/Phoenix:20260422T153000
DTEND;TZID=America/Phoenix:20260422T163000
DTSTAMP:20260425T040924
CREATED:20250811T163500Z
LAST-MODIFIED:20250811T163500Z
UID:10001795-1776871800-1776875400@azced.org
SUMMARY:Office Hours
DESCRIPTION:
URL:https://azced.org/events/office-hours/2026-04-22/
END:VEVENT
BEGIN:VEVENT
DTSTART;TZID=America/Phoenix:20260415T153000
DTEND;TZID=America/Phoenix:20260415T163000
DTSTAMP:20260425T040924
CREATED:20250811T163500Z
LAST-MODIFIED:20250811T163500Z
UID:10001794-1776267000-1776270600@azced.org
SUMMARY:Office Hours
DESCRIPTION:
URL:https://azced.org/events/office-hours/2026-04-15/
END:VEVENT
BEGIN:VEVENT
DTSTART;TZID=America/Phoenix:20260408T153000
DTEND;TZID=America/Phoenix:20260408T163000
DTSTAMP:20260425T040924
CREATED:20250811T163500Z
LAST-MODIFIED:20250811T163500Z
UID:10001793-1775662200-1775665800@azced.org
SUMMARY:Office Hours
DESCRIPTION:
URL:https://azced.org/events/office-hours/2026-04-08/
END:VEVENT
BEGIN:VEVENT
DTSTART;TZID=America/Phoenix:20260401T153000
DTEND;TZID=America/Phoenix:20260401T163000
DTSTAMP:20260425T040924
CREATED:20250811T163500Z
LAST-MODIFIED:20250811T163500Z
UID:10001792-1775057400-1775061000@azced.org
SUMMARY:Office Hours
DESCRIPTION:
URL:https://azced.org/events/office-hours/2026-04-01/
END:VEVENT
BEGIN:VEVENT
DTSTART;TZID=America/Phoenix:20260325T153000
DTEND;TZID=America/Phoenix:20260325T163000
DTSTAMP:20260425T040924
CREATED:20250811T163500Z
LAST-MODIFIED:20250811T163500Z
UID:10001791-1774452600-1774456200@azced.org
SUMMARY:Office Hours
DESCRIPTION:
URL:https://azced.org/events/office-hours/2026-03-25/
END:VEVENT
BEGIN:VEVENT
DTSTART;TZID=America/Phoenix:20260318T153000
DTEND;TZID=America/Phoenix:20260318T163000
DTSTAMP:20260425T040924
CREATED:20250811T163500Z
LAST-MODIFIED:20250811T163500Z
UID:10001790-1773847800-1773851400@azced.org
SUMMARY:Office Hours
DESCRIPTION:
URL:https://azced.org/events/office-hours/2026-03-18/
END:VEVENT
BEGIN:VEVENT
DTSTART;TZID=America/Phoenix:20260311T153000
DTEND;TZID=America/Phoenix:20260311T163000
DTSTAMP:20260425T040924
CREATED:20250811T163500Z
LAST-MODIFIED:20250811T163500Z
UID:10001789-1773243000-1773246600@azced.org
SUMMARY:Office Hours
DESCRIPTION:
URL:https://azced.org/events/office-hours/2026-03-11/
END:VEVENT
BEGIN:VEVENT
DTSTART;TZID=America/Phoenix:20260304T153000
DTEND;TZID=America/Phoenix:20260304T163000
DTSTAMP:20260425T040924
CREATED:20250811T163500Z
LAST-MODIFIED:20250811T163500Z
UID:10001788-1772638200-1772641800@azced.org
SUMMARY:Office Hours
DESCRIPTION:
URL:https://azced.org/events/office-hours/2026-03-04/
END:VEVENT
BEGIN:VEVENT
DTSTART;TZID=America/Phoenix:20260225T153000
DTEND;TZID=America/Phoenix:20260225T163000
DTSTAMP:20260425T040924
CREATED:20250811T163500Z
LAST-MODIFIED:20250811T163500Z
UID:10001787-1772033400-1772037000@azced.org
SUMMARY:Office Hours
DESCRIPTION:
URL:https://azced.org/events/office-hours/2026-02-25/
END:VEVENT
BEGIN:VEVENT
DTSTART;TZID=America/Phoenix:20260218T153000
DTEND;TZID=America/Phoenix:20260218T163000
DTSTAMP:20260425T040924
CREATED:20250811T163500Z
LAST-MODIFIED:20250811T163500Z
UID:10001786-1771428600-1771432200@azced.org
SUMMARY:Office Hours
DESCRIPTION:
URL:https://azced.org/events/office-hours/2026-02-18/
END:VEVENT
BEGIN:VEVENT
DTSTART;TZID=America/Phoenix:20260211T153000
DTEND;TZID=America/Phoenix:20260211T163000
DTSTAMP:20260425T040924
CREATED:20250811T163500Z
LAST-MODIFIED:20250811T163500Z
UID:10001785-1770823800-1770827400@azced.org
SUMMARY:Office Hours
DESCRIPTION:
URL:https://azced.org/events/office-hours/2026-02-11/
END:VEVENT
BEGIN:VEVENT
DTSTART;TZID=America/Phoenix:20260204T153000
DTEND;TZID=America/Phoenix:20260204T163000
DTSTAMP:20260425T040924
CREATED:20250811T163500Z
LAST-MODIFIED:20250811T163500Z
UID:10001784-1770219000-1770222600@azced.org
SUMMARY:Office Hours
DESCRIPTION:
URL:https://azced.org/events/office-hours/2026-02-04/
END:VEVENT
BEGIN:VEVENT
DTSTART;TZID=America/Phoenix:20260128T153000
DTEND;TZID=America/Phoenix:20260128T163000
DTSTAMP:20260425T040924
CREATED:20250811T163500Z
LAST-MODIFIED:20250811T163500Z
UID:10001783-1769614200-1769617800@azced.org
SUMMARY:Office Hours
DESCRIPTION:
URL:https://azced.org/events/office-hours/2026-01-28/
END:VEVENT
BEGIN:VEVENT
DTSTART;TZID=America/Phoenix:20260121T153000
DTEND;TZID=America/Phoenix:20260121T163000
DTSTAMP:20260425T040924
CREATED:20250811T163500Z
LAST-MODIFIED:20250811T163500Z
UID:10001782-1769009400-1769013000@azced.org
SUMMARY:Office Hours
DESCRIPTION:
URL:https://azced.org/events/office-hours/2026-01-21/
END:VEVENT
BEGIN:VEVENT
DTSTART;TZID=America/Phoenix:20260114T153000
DTEND;TZID=America/Phoenix:20260114T163000
DTSTAMP:20260425T040924
CREATED:20250811T163500Z
LAST-MODIFIED:20250811T163500Z
UID:10001781-1768404600-1768408200@azced.org
SUMMARY:Office Hours
DESCRIPTION:
URL:https://azced.org/events/office-hours/2026-01-14/
END:VEVENT
BEGIN:VEVENT
DTSTART;TZID=America/Phoenix:20260107T153000
DTEND;TZID=America/Phoenix:20260107T163000
DTSTAMP:20260425T040924
CREATED:20250811T163500Z
LAST-MODIFIED:20250811T163500Z
UID:10001780-1767799800-1767803400@azced.org
SUMMARY:Office Hours
DESCRIPTION:
URL:https://azced.org/events/office-hours/2026-01-07/
END:VEVENT
BEGIN:VEVENT
DTSTART;TZID=America/Phoenix:20251231T153000
DTEND;TZID=America/Phoenix:20251231T163000
DTSTAMP:20260425T040924
CREATED:20250811T163500Z
LAST-MODIFIED:20250811T163500Z
UID:10001779-1767195000-1767198600@azced.org
SUMMARY:Office Hours
DESCRIPTION:
URL:https://azced.org/events/office-hours/2025-12-31/
END:VEVENT
BEGIN:VEVENT
DTSTART;TZID=America/Phoenix:20251224T153000
DTEND;TZID=America/Phoenix:20251224T163000
DTSTAMP:20260425T040924
CREATED:20250811T163500Z
LAST-MODIFIED:20250811T163500Z
UID:10001778-1766590200-1766593800@azced.org
SUMMARY:Office Hours
DESCRIPTION:
URL:https://azced.org/events/office-hours/2025-12-24/
END:VEVENT
BEGIN:VEVENT
DTSTART;TZID=America/Phoenix:20251217T153000
DTEND;TZID=America/Phoenix:20251217T163000
DTSTAMP:20260425T040924
CREATED:20250811T163500Z
LAST-MODIFIED:20250811T163500Z
UID:10001777-1765985400-1765989000@azced.org
SUMMARY:Office Hours
DESCRIPTION:
URL:https://azced.org/events/office-hours/2025-12-17/
END:VEVENT
BEGIN:VEVENT
DTSTART;TZID=America/Phoenix:20251210T153000
DTEND;TZID=America/Phoenix:20251210T163000
DTSTAMP:20260425T040924
CREATED:20250811T163500Z
LAST-MODIFIED:20250811T163500Z
UID:10001776-1765380600-1765384200@azced.org
SUMMARY:Office Hours
DESCRIPTION:
URL:https://azced.org/events/office-hours/2025-12-10/
END:VEVENT
BEGIN:VEVENT
DTSTART;TZID=America/Phoenix:20251203T153000
DTEND;TZID=America/Phoenix:20251203T163000
DTSTAMP:20260425T040924
CREATED:20250811T163500Z
LAST-MODIFIED:20250811T163500Z
UID:10001775-1764775800-1764779400@azced.org
SUMMARY:Office Hours
DESCRIPTION:
URL:https://azced.org/events/office-hours/2025-12-03/
END:VEVENT
BEGIN:VEVENT
DTSTART;TZID=America/Phoenix:20251126T153000
DTEND;TZID=America/Phoenix:20251126T163000
DTSTAMP:20260425T040924
CREATED:20250811T163500Z
LAST-MODIFIED:20250811T163500Z
UID:10001774-1764171000-1764174600@azced.org
SUMMARY:Office Hours
DESCRIPTION:
URL:https://azced.org/events/office-hours/2025-11-26/
END:VEVENT
BEGIN:VEVENT
DTSTART;TZID=America/Phoenix:20251119T153000
DTEND;TZID=America/Phoenix:20251119T163000
DTSTAMP:20260425T040924
CREATED:20250811T163500Z
LAST-MODIFIED:20250811T163500Z
UID:10001773-1763566200-1763569800@azced.org
SUMMARY:Office Hours
DESCRIPTION:
URL:https://azced.org/events/office-hours/2025-11-19/
END:VEVENT
END:VCALENDAR