BEGIN:VCALENDAR
VERSION:2.0
PRODID:-//ACED - ECPv6.15.20//NONSGML v1.0//EN
CALSCALE:GREGORIAN
METHOD:PUBLISH
X-ORIGINAL-URL:https://azced.org
X-WR-CALDESC:Events for ACED
REFRESH-INTERVAL;VALUE=DURATION:PT1H
X-Robots-Tag:noindex
X-PUBLISHED-TTL:PT1H
BEGIN:VTIMEZONE
TZID:America/Phoenix
BEGIN:STANDARD
TZOFFSETFROM:-0700
TZOFFSETTO:-0700
TZNAME:MST
DTSTART:20250101T000000
END:STANDARD
END:VTIMEZONE
BEGIN:VEVENT
DTSTART;TZID=America/Phoenix:20260603T153000
DTEND;TZID=America/Phoenix:20260603T163000
DTSTAMP:20260424T140627
CREATED:20250811T163500Z
LAST-MODIFIED:20250811T163500Z
UID:10001801-1780500600-1780504200@azced.org
SUMMARY:Office Hours
DESCRIPTION:
URL:https://azced.org/events/office-hours/2026-06-03/
END:VEVENT
BEGIN:VEVENT
DTSTART;TZID=America/Phoenix:20260610T153000
DTEND;TZID=America/Phoenix:20260610T163000
DTSTAMP:20260424T140627
CREATED:20250811T163500Z
LAST-MODIFIED:20250811T163500Z
UID:10001802-1781105400-1781109000@azced.org
SUMMARY:Office Hours
DESCRIPTION:
URL:https://azced.org/events/office-hours/2026-06-10/
END:VEVENT
BEGIN:VEVENT
DTSTART;TZID=America/Phoenix:20260617T153000
DTEND;TZID=America/Phoenix:20260617T163000
DTSTAMP:20260424T140627
CREATED:20250811T163500Z
LAST-MODIFIED:20250811T163500Z
UID:10001803-1781710200-1781713800@azced.org
SUMMARY:Office Hours
DESCRIPTION:
URL:https://azced.org/events/office-hours/2026-06-17/
END:VEVENT
BEGIN:VEVENT
DTSTART;TZID=America/Phoenix:20260624T153000
DTEND;TZID=America/Phoenix:20260624T163000
DTSTAMP:20260424T140627
CREATED:20250811T163500Z
LAST-MODIFIED:20250811T163500Z
UID:10001804-1782315000-1782318600@azced.org
SUMMARY:Office Hours
DESCRIPTION:
URL:https://azced.org/events/office-hours/2026-06-24/
END:VEVENT
END:VCALENDAR